BEGIN:VCALENDAR
PRODID:-//eluceo/ical//2.0/EN
VERSION:2.0
CALSCALE:GREGORIAN
BEGIN:VEVENT
UID:6115c0cdf968a9b13066bfd2c229bee4
DTSTAMP:20260421T101456Z
SUMMARY:Bodensee-Regio-Treffen
DESCRIPTION:
URL:https://innerwheel.ch/it/agenda/show/1319
DTSTART;TZID=Europe/Zurich:20161115T000000
DTEND;TZID=Europe/Zurich:20161115T000000
LOCATION:St. Gallen
CATEGORIES:Inner Wheel
END:VEVENT
BEGIN:VTIMEZONE
TZID:Europe/Zurich
BEGIN:STANDARD
DTSTART:20161115T000000
TZNAME:CET
TZOFFSETTO:+0100
TZOFFSETFROM:+0100
END:STANDARD
END:VTIMEZONE
END:VCALENDAR
