BEGIN:VCALENDAR
PRODID:-//eluceo/ical//2.0/EN
VERSION:2.0
CALSCALE:GREGORIAN
BEGIN:VEVENT
UID:95d9ec4cd5ab3edb3569b0930bd2993a
DTSTAMP:20260421T091843Z
SUMMARY:Arbeitstagung / Séance de travail  
DESCRIPTION:
URL:https://innerwheel.ch/it/agenda/show/256
DTSTART;TZID=Europe/Zurich:20150518T000000
DTEND;TZID=Europe/Zurich:20150518T000000
LOCATION:Bern
CATEGORIES:Inner Wheel
END:VEVENT
BEGIN:VTIMEZONE
TZID:Europe/Zurich
BEGIN:DAYLIGHT
DTSTART:20150518T000000
TZNAME:CEST
TZOFFSETTO:+0200
TZOFFSETFROM:+0200
END:DAYLIGHT
END:VTIMEZONE
END:VCALENDAR
